BEGIN:VCALENDAR
VERSION:2.0
PRODID:-//Tukios.com/
BEGIN:VEVENT
UID:53e2835a-d589-4182-a664-b8ef48bb5f4d@www.mvmortuary.com
DTSTAMP:20260422T122140Z
DTSTART:20260422T200000Z
DTEND:20260422T210000Z
SUMMARY:Interment
DESCRIPTION:
URL:https://www.mvmortuary.com/obituaries/david-scheel
LOCATION: 4927 County Road 27  Monte Vista CO 81144
GEO:37.5869838;-106.1964856
END:VEVENT
END:VCALENDAR