BEGIN:VCALENDAR
VERSION:2.0
PRODID:-//Tukios.com/
BEGIN:VEVENT
UID:abdeb4ab-d5e2-407e-a03a-222eaaf15bbd@www.mvmortuary.com
DTSTAMP:20260422T122039Z
DTSTART:20260422T190000Z
DTEND:20260422T200000Z
SUMMARY:Funeral Service
DESCRIPTION:
URL:https://www.mvmortuary.com/obituaries/david-scheel
LOCATION:Mountain Valley Mortuary 504 4th Ave  Monte Vista CO 81144
GEO:37.5763959;-106.1520058
END:VEVENT
END:VCALENDAR